BEGIN:VCALENDAR
VERSION:2.0
PRODID:-//ÁGata Verde - ECPv5.6.0//NONSGML v1.0//EN
CALSCALE:GREGORIAN
METHOD:PUBLISH
X-WR-CALNAME:ÁGata Verde
X-ORIGINAL-URL:https://www.agataverde.com
X-WR-CALDESC:Eventos para ÁGata Verde
BEGIN:VTIMEZONE
TZID:UTC
BEGIN:STANDARD
TZOFFSETFROM:+0000
TZOFFSETTO:+0000
TZNAME:UTC
DTSTART:20170101T000000
END:STANDARD
END:VTIMEZONE
BEGIN:VEVENT
DTSTART;TZID=UTC:20170309T080000
DTEND;TZID=UTC:20170309T170000
DTSTAMP:20260423T083001
CREATED:20170223T205159Z
LAST-MODIFIED:20170228T183116Z
UID:5027-1489046400-1489078800@www.agataverde.com
SUMMARY:evento de prueba
DESCRIPTION:
URL:https://www.agataverde.com/evento/event/
LOCATION:Cortijo Ayer y Hoy\, Cabo de Gata\, Almería\, España
CATEGORIES:Talleres
ATTACH;FMTTYPE=image/jpeg:https://www.agataverde.com/wp-content/uploads/2016/04/12983840_1007359169344653_8999100402149685469_o.jpg
ORGANIZER;CN="%C3%81Gata%20Verde":MAILTO:hola@agataverde.com
END:VEVENT
END:VCALENDAR